BEGIN:VCALENDAR
VERSION:2.0
PRODID:-//Magnolia Thyme - ECPv6.15.20//NONSGML v1.0//EN
CALSCALE:GREGORIAN
METHOD:PUBLISH
X-ORIGINAL-URL:https://magnoliathyme.com
X-WR-CALDESC:Events for Magnolia Thyme
REFRESH-INTERVAL;VALUE=DURATION:PT1H
X-Robots-Tag:noindex
X-PUBLISHED-TTL:PT1H
BEGIN:VTIMEZONE
TZID:America/New_York
BEGIN:DAYLIGHT
TZOFFSETFROM:-0500
TZOFFSETTO:-0400
TZNAME:EDT
DTSTART:20170312T070000
END:DAYLIGHT
BEGIN:STANDARD
TZOFFSETFROM:-0400
TZOFFSETTO:-0500
TZNAME:EST
DTSTART:20171105T060000
END:STANDARD
BEGIN:DAYLIGHT
TZOFFSETFROM:-0500
TZOFFSETTO:-0400
TZNAME:EDT
DTSTART:20180311T070000
END:DAYLIGHT
BEGIN:STANDARD
TZOFFSETFROM:-0400
TZOFFSETTO:-0500
TZNAME:EST
DTSTART:20181104T060000
END:STANDARD
BEGIN:DAYLIGHT
TZOFFSETFROM:-0500
TZOFFSETTO:-0400
TZNAME:EDT
DTSTART:20190310T070000
END:DAYLIGHT
BEGIN:STANDARD
TZOFFSETFROM:-0400
TZOFFSETTO:-0500
TZNAME:EST
DTSTART:20191103T060000
END:STANDARD
END:VTIMEZONE
BEGIN:VEVENT
DTSTART;TZID=America/New_York:20181201T093000
DTEND;TZID=America/New_York:20181201T110000
DTSTAMP:20260423T223013
CREATED:20181128T024059Z
LAST-MODIFIED:20181128T024059Z
UID:455-1543656600-1543662000@magnoliathyme.com
SUMMARY:All I Want for Christmas Event
DESCRIPTION:
URL:https://magnoliathyme.com/event/all-i-want-for-christmas-event/
LOCATION:Loveland Coffee Roastery\, 5125-C Bush River Road\, Columbia\, SC\, 29212\, United States
CATEGORIES:Loveland Coffee,Partnering Local Business Events,Workshop
ORGANIZER;CN="Magnolia Thyme":MAILTO:magnoliathyme@gmail.com
END:VEVENT
END:VCALENDAR